Workbook

Sheet Metrico (SI)
B1: Comparativo de similares - dimensoes no sistema metrico (SI)
B2: Valores calculados por formula a partir da aba 'Original (fonte)' (dados originais preservados). Fatores na aba 'Fatores'. Nenhum valor desta aba foi digitado.
B4: Parametro (PT) | C4: Parameter (EN) | D4: Unidade | E4: B&B Yacht Designs (Graham Byrnes) Spindrift 12 (2014) | F4: Chesapeake Light Craft (John C. Harris) Passagemaker Dinghy (2016) | G4: Chesapeake Light Craft (John C. Harris) Skerry (2023) | H4: Iain Oughtred Designs Acorn Dinghy 10' 2'' (Puffin) (2025)
B7: Comprimento total (LOA) | C7: LOA | D7: m | E7: =IF('Original (fonte)'!F7="","",'Original (fonte)'!F7*Fatores!$E$5) | F7: =IF('Original (fonte)'!G7="","",'Original (fonte)'!G7*Fatores!$E$5) | G7: =IF('Original (fonte)'!H7="","",'Original (fonte)'!H7*Fatores!$E$5) | H7: =IF('Original (fonte)'!I7="","",'Original (fonte)'!I7*Fatores!$E$5)
B8: Comprimento na linha d'agua (LWL) | C8: LWL | D8: m | E8: =IF('Original (fonte)'!F8="","",'Original (fonte)'!F8*Fatores!$E$5) | F8: =IF('Original (fonte)'!G8="","",'Original (fonte)'!G8*Fatores!$E$5) | G8: =IF('Original (fonte)'!H8="","",'Original (fonte)'!H8*Fatores!$E$5) | H8: =IF('Original (fonte)'!I8="","",'Original (fonte)'!I8*Fatores!$E$5)
B9: Boca maxima (BOA) | C9: BOA | D9: m | E9: =IF('Original (fonte)'!F9="","",'Original (fonte)'!F9*Fatores!$E$5) | F9: =IF('Original (fonte)'!G9="","",'Original (fonte)'!G9*Fatores!$E$5) | G9: =IF('Original (fonte)'!H9="","",'Original (fonte)'!H9*Fatores!$E$5) | H9: =IF('Original (fonte)'!I9="","",'Original (fonte)'!I9*Fatores!$E$5)
B10: Calado | C10: Draft | D10: m | E10: =IF('Original (fonte)'!F10="","",'Original (fonte)'!F10*Fatores!$E$5) | F10: =IF('Original (fonte)'!G10="","",'Original (fonte)'!G10*Fatores!$E$5) | G10: =IF('Original (fonte)'!H10="","",'Original (fonte)'!H10*Fatores!$E$5) | H10: =IF('Original (fonte)'!I10="","",'Original (fonte)'!I10*Fatores!$E$5)
B11: Pontal (fundo ate o conves) | C11: Depth | D11: m | E11: =IF('Original (fonte)'!F11="","",'Original (fonte)'!F11*Fatores!$E$5) | F11: =IF('Original (fonte)'!G11="","",'Original (fonte)'!G11*Fatores!$E$5) | G11: =IF('Original (fonte)'!H11="","",'Original (fonte)'!H11*Fatores!$E$5) | H11: =IF('Original (fonte)'!I11="","",'Original (fonte)'!I11*Fatores!$E$5)
B12: Deslocamento | C12: Displ. | D12: kg | E12: =IF('Original (fonte)'!F12="","",'Original (fonte)'!F12*Fatores!$E$6) | F12: =IF('Original (fonte)'!G12="","",'Original (fonte)'!G12*Fatores!$E$6) | G12: =IF('Original (fonte)'!H12="","",'Original (fonte)'!H12*Fatores!$E$6) | H12: =IF('Original (fonte)'!I12="","",'Original (fonte)'!I12*Fatores!$E$6)
B13: Angulo de V do fundo (deadrise) | C13: Deadrise | D13: graus | E13: =IF('Original (fonte)'!F13="","",'Original (fonte)'!F13) | F13: =IF('Original (fonte)'!G13="","",'Original (fonte)'!G13) | G13: =IF('Original (fonte)'!H13="","",'Original (fonte)'!H13) | H13: =IF('Original (fonte)'!I13="","",'Original (fonte)'!I13)
B14: Altura livre interna (pe-direito) | C14: Head Room | D14: m | E14: =IF('Original (fonte)'!F14="","",'Original (fonte)'!F14*Fatores!$E$5) | F14: =IF('Original (fonte)'!G14="","",'Original (fonte)'!G14*Fatores!$E$5) | G14: =IF('Original (fonte)'!H14="","",'Original (fonte)'!H14*Fatores!$E$5) | H14: =IF('Original (fonte)'!I14="","",'Original (fonte)'!I14*Fatores!$E$5)
B15: Area velica (se veleiro) | C15: Sail Area | D15: m2 | E15: =IF('Original (fonte)'!F15="","",'Original (fonte)'!F15*Fatores!$E$10) | F15: =IF('Original (fonte)'!G15="","",'Original (fonte)'!G15*Fatores!$E$10) | G15: =IF('Original (fonte)'!H15="","",'Original (fonte)'!H15*Fatores!$E$10) | H15: =IF('Original (fonte)'!I15="","",'Original (fonte)'!I15*Fatores!$E$10)
B16: Combustivel | C16: Fuel | D16: L | E16: =IF('Original (fonte)'!F16="","",'Original (fonte)'!F16*Fatores!$E$7) | F16: =IF('Original (fonte)'!G16="","",'Original (fonte)'!G16*Fatores!$E$7) | G16: =IF('Original (fonte)'!H16="","",'Original (fonte)'!H16*Fatores!$E$7) | H16: =IF('Original (fonte)'!I16="","",'Original (fonte)'!I16*Fatores!$E$7)
B17: Agua doce | C17: Water | D17: L | E17: =IF('Original (fonte)'!F17="","",'Original (fonte)'!F17*Fatores!$E$7) | F17: =IF('Original (fonte)'!G17="","",'Original (fonte)'!G17*Fatores!$E$7) | G17: =IF('Original (fonte)'!H17="","",'Original (fonte)'!H17*Fatores!$E$7) | H17: =IF('Original (fonte)'!I17="","",'Original (fonte)'!I17*Fatores!$E$7)
B18: Tanque de dejetos (aguas negras) | C18: Holding Tank | D18: L | E18: =IF('Original (fonte)'!F18="","",'Original (fonte)'!F18*Fatores!$E$7) | F18: =IF('Original (fonte)'!G18="","",'Original (fonte)'!G18*Fatores!$E$7) | G18: =IF('Original (fonte)'!H18="","",'Original (fonte)'!H18*Fatores!$E$7) | H18: =IF('Original (fonte)'!I18="","",'Original (fonte)'!I18*Fatores!$E$7)
B19: Potencia instalada | C19: HP | D19: kW | E19: =IF('Original (fonte)'!F19="","",'Original (fonte)'!F19*Fatores!$E$8) | F19: =IF('Original (fonte)'!G19="","",'Original (fonte)'!G19*Fatores!$E$8) | G19: =IF('Original (fonte)'!H19="","",'Original (fonte)'!H19*Fatores!$E$8) | H19: =IF('Original (fonte)'!I19="","",'Original (fonte)'!I19*Fatores!$E$8)
B20: Motorizacao (marca / modelo / qtd.) | C20: Engine | D20: texto | E20: =IF('Original (fonte)'!F20="","",'Original (fonte)'!F20) | F20: =IF('Original (fonte)'!G20="","",'Original (fonte)'!G20) | G20: =IF('Original (fonte)'!H20="","",'Original (fonte)'!H20) | H20: =IF('Original (fonte)'!I20="","",'Original (fonte)'!I20)
B21: Motorizacao (detalhe) | C21: Engine (cont.) | D21: texto | E21: =IF('Original (fonte)'!F21="","",'Original (fonte)'!F21) | F21: =IF('Original (fonte)'!G21="","",'Original (fonte)'!G21) | G21: =IF('Original (fonte)'!H21="","",'Original (fonte)'!H21) | H21: =IF('Original (fonte)'!I21="","",'Original (fonte)'!I21)
B22: Velocidade maxima | C22: Max Speed | D22: kn | E22: =IF('Original (fonte)'!F22="","",'Original (fonte)'!F22*Fatores!$E$9) | F22: =IF('Original (fonte)'!G22="","",'Original (fonte)'!G22*Fatores!$E$9) | G22: =IF('Original (fonte)'!H22="","",'Original (fonte)'!H22*Fatores!$E$9) | H22: =IF('Original (fonte)'!I22="","",'Original (fonte)'!I22*Fatores!$E$9)
B23: Velocidade de cruzeiro | C23: Cruise Speed | D23: kn | E23: =IF('Original (fonte)'!F23="","",'Original (fonte)'!F23*Fatores!$E$9) | F23: =IF('Original (fonte)'!G23="","",'Original (fonte)'!G23*Fatores!$E$9) | G23: =IF('Original (fonte)'!H23="","",'Original (fonte)'!H23*Fatores!$E$9) | H23: =IF('Original (fonte)'!I23="","",'Original (fonte)'!I23*Fatores!$E$9)
B24: Autonomia | C24: Range | D24: NM | E24: =IF('Original (fonte)'!F24="","",'Original (fonte)'!F24) | F24: =IF('Original (fonte)'!G24="","",'Original (fonte)'!G24) | G24: =IF('Original (fonte)'!H24="","",'Original (fonte)'!H24) | H24: =IF('Original (fonte)'!I24="","",'Original (fonte)'!I24)
B25: Borda livre a proa (FF) | C25: FF | D25: m | E25: =IF('Original (fonte)'!F25="","",'Original (fonte)'!F25*Fatores!$E$5) | F25: =IF('Original (fonte)'!G25="","",'Original (fonte)'!G25*Fatores!$E$5) | G25: =IF('Original (fonte)'!H25="","",'Original (fonte)'!H25*Fatores!$E$5) | H25: =IF('Original (fonte)'!I25="","",'Original (fonte)'!I25*Fatores!$E$5)
B26: Borda livre a meia-nau (FM) | C26: FM | D26: m | E26: =IF('Original (fonte)'!F26="","",'Original (fonte)'!F26*Fatores!$E$5) | F26: =IF('Original (fonte)'!G26="","",'Original (fonte)'!G26*Fatores!$E$5) | G26: =IF('Original (fonte)'!H26="","",'Original (fonte)'!H26*Fatores!$E$5) | H26: =IF('Original (fonte)'!I26="","",'Original (fonte)'!I26*Fatores!$E$5)
B27: Altura do para-brisa | C27: Windshild Height | D27: m | E27: =IF('Original (fonte)'!F27="","",'Original (fonte)'!F27*Fatores!$E$5) | F27: =IF('Original (fonte)'!G27="","",'Original (fonte)'!G27*Fatores!$E$5) | G27: =IF('Original (fonte)'!H27="","",'Original (fonte)'!H27*Fatores!$E$5) | H27: =IF('Original (fonte)'!I27="","",'Original (fonte)'!I27*Fatores!$E$5)
B28: Altura maxima do deck na linha de centro | C28: Deck @CL Max Height | D28: m | E28: =IF('Original (fonte)'!F28="","",'Original (fonte)'!F28*Fatores!$E$5) | F28: =IF('Original (fonte)'!G28="","",'Original (fonte)'!G28*Fatores!$E$5) | G28: =IF('Original (fonte)'!H28="","",'Original (fonte)'!H28*Fatores!$E$5) | H28: =IF('Original (fonte)'!I28="","",'Original (fonte)'!I28*Fatores!$E$5)
B29: Plataforma de banho: topo ate a linha d'agua | C29: Swim Plat. Top to WL | D29: m | E29: =IF('Original (fonte)'!F29="","",'Original (fonte)'!F29*Fatores!$E$5) | F29: =IF('Original (fonte)'!G29="","",'Original (fonte)'!G29*Fatores!$E$5) | G29: =IF('Original (fonte)'!H29="","",'Original (fonte)'!H29*Fatores!$E$5) | H29: =IF('Original (fonte)'!I29="","",'Original (fonte)'!I29*Fatores!$E$5)
B30: Altura do balaustre (corrimao) | C30: Rail Height | D30: m | E30: =IF('Original (fonte)'!F30="","",'Original (fonte)'!F30*Fatores!$E$5) | F30: =IF('Original (fonte)'!G30="","",'Original (fonte)'!G30*Fatores!$E$5) | G30: =IF('Original (fonte)'!H30="","",'Original (fonte)'!H30*Fatores!$E$5) | H30: =IF('Original (fonte)'!I30="","",'Original (fonte)'!I30*Fatores!$E$5)
B32: RAZOES
B33: Comprimento total (L) / Boca (B) | C33: LOA/BOA | D33: - | E33: =IF('Original (fonte)'!F33<>"",'Original (fonte)'!F33,IF(OR(E7="",E9="",E9=0),"",E7/E9)) | F33: =IF('Original (fonte)'!G33<>"",'Original (fonte)'!G33,IF(OR(F7="",F9="",F9=0),"",F7/F9)) | G33: =IF('Original (fonte)'!H33<>"",'Original (fonte)'!H33,IF(OR(G7="",G9="",G9=0),"",G7/G9)) | H33: =IF('Original (fonte)'!I33<>"",'Original (fonte)'!I33,IF(OR(H7="",H9="",H9=0),"",H7/H9))
B34: Razao deslocamento-comprimento (DLR) | C34: DLR | D34: - | E34: =IF('Original (fonte)'!F34<>"",'Original (fonte)'!F34,IF(OR(E12="",E8="",E8=0),"",(E12/Fatores!$E$11)/((0.01*(E8/Fatores!$E$5))^3))) | F34: =IF('Original (fonte)'!G34<>"",'Original (fonte)'!G34,IF(OR(F12="",F8="",F8=0),"",(F12/Fatores!$E$11)/((0.01*(F8/Fatores!$E$5))^3))) | G34: =IF('Original (fonte)'!H34<>"",'Original (fonte)'!H34,IF(OR(G12="",G8="",G8=0),"",(G12/Fatores!$E$11)/((0.01*(G8/Fatores!$E$5))^3))) | H34: =IF('Original (fonte)'!I34<>"",'Original (fonte)'!I34,IF(OR(H12="",H8="",H8=0),"",(H12/Fatores!$E$11)/((0.01*(H8/Fatores!$E$5))^3)))
B35: Deslocamento / Potencia | C35: DISP./HP | D35: kg/kW | E35: =IF('Original (fonte)'!F35<>"",'Original (fonte)'!F35,IF(OR(E12="",E19="",E19=0),"",E12/E19)) | F35: =IF('Original (fonte)'!G35<>"",'Original (fonte)'!G35,IF(OR(F12="",F19="",F19=0),"",F12/F19)) | G35: =IF('Original (fonte)'!H35<>"",'Original (fonte)'!H35,IF(OR(G12="",G19="",G19=0),"",G12/G19)) | H35: =IF('Original (fonte)'!I35<>"",'Original (fonte)'!I35,IF(OR(H12="",H19="",H19=0),"",H12/H19))
B37: Nota: celula vazia significa que a fonte nao informa o dado - nunca que o valor e zero. Razoes aparecem com o valor publicado pela fonte quando existe; caso contrario sao calculadas a partir das linhas acima.

Sheet Original (fonte)
B1: Estudo de similares - dados como publicados pela fonte
B2: Cada valor abaixo foi copiado literalmente da pagina indicada na aba Fontes, sem arredondar. A unidade depende do sistema declarado na linha 5 de cada coluna. Celula vazia = a fonte nao informa.
B4: Parametro (PT) | C4: Parameter (EN) | D4: Unid. se imperial | E4: Unid. se metrico | F4: B&B Yacht Designs (Graham Byrnes) Spindrift 12 (2014) | G4: Chesapeake Light Craft (John C. Harris) Passagemaker Dinghy (2016) | H4: Chesapeake Light Craft (John C. Harris) Skerry (2023) | I4: Iain Oughtred Designs Acorn Dinghy 10' 2'' (Puffin) (2025)
B5: Sistema de unidades da fonte | F5: imperial | G5: imperial | H5: imperial | I5: imperial
B7: Comprimento total (LOA) | C7: LOA | D7: ft | E7: m | F7: 12 | G7: 11.58 | H7: 15 | I7: 10.17
B8: Comprimento na linha d'agua (LWL) | C8: LWL | D8: ft | E8: m | I8: 9.83
B9: Boca maxima (BOA) | C9: BOA | D9: ft | E9: m | F9: 4.5 | G9: 4.67 | H9: 4.5 | I9: 4.17
B10: Calado | C10: Draft | D10: ft | E10: m | G10: 0.5 | H10: 0.42 | I10: 0.5
B11: Pontal (fundo ate o conves) | C11: Depth | D11: ft | E11: m
B12: Deslocamento | C12: Displ. | D12: lbs | E12: kg | F12: 105 | G12: 94 | H12: 95 | I12: 100
B13: Angulo de V do fundo (deadrise) | C13: Deadrise | D13: deg | E13: graus
B14: Altura livre interna (pe-direito) | C14: Head Room | D14: ft | E14: m
B15: Area velica (se veleiro) | C15: Sail Area | D15: ft2 | E15: m2 | F15: 85 | G15: 62 | H15: 56 | I15: 48
B16: Combustivel | C16: Fuel | D16: GAL | E16: L
B17: Agua doce | C17: Water | D17: GAL | E17: L
B18: Tanque de dejetos (aguas negras) | C18: Holding Tank | D18: GAL | E18: L
B19: Potencia instalada | C19: HP | D19: HP | E19: kW
B20: Motorizacao (marca / modelo / qtd.) | C20: Engine | D20: texto | E20: texto
B21: Motorizacao (detalhe) | C21: Engine (cont.) | D21: texto | E21: texto
B22: Velocidade maxima | C22: Max Speed | D22: MPH | E22: kn
B23: Velocidade de cruzeiro | C23: Cruise Speed | D23: MPH | E23: kn
B24: Autonomia | C24: Range | D24: NM | E24: NM
B25: Borda livre a proa (FF) | C25: FF | D25: ft | E25: m
B26: Borda livre a meia-nau (FM) | C26: FM | D26: ft | E26: m
B27: Altura do para-brisa | C27: Windshild Height | D27: ft | E27: m
... B30: Altura do balaustre (corrimao) | C30: Rail Height | D30: ft | E30: m
B32: RAZOES publicadas pela fonte (em branco = calculada)
B33: Comprimento total (L) / Boca (B) | C33: LOA/BOA | D33: - | E33: -
B34: Razao deslocamento-comprimento (DLR) | C34: DLR | D34: - | E34: -
B35: Deslocamento / Potencia | C35: DISP./HP | D35: - | E35: kg/kW

Sheet Fontes
B1: Fontes consultadas
B2: Somente paginas efetivamente abertas e lidas. 'sem data identificavel' significa que a pagina nao publica data.
B4: Embarcacao | C4: Fonte | D4: Tipo | E4: Publicacao | F4: Acesso | G4: Link
B5: B&B Yacht Designs (Graham Byrnes) Spindrift 12 (2014) | C5: Small Boats Magazine - Spindrift 12 (Matthew P. Murphy) | D5: revista nautica | E5: 2014-08-15 | F5: 2026-09-15 | G5: https://smallboatsmonthly.com/article/spindrift-12/
B6: B&B Yacht Designs (Graham Byrnes) Spindrift 12 (2014) | C6: B&B Yacht Designs - Spindrift Series | D6: estaleiro | E6: sem data identificavel | F6: 2026-09-15 | G6: https://bandbyachtdesigns.com/spindrift
B7: B&B Yacht Designs (Graham Byrnes) Spindrift 12 (2014) - lacunas: lwl, calado, pontal, potencia, vel_max, vel_cruzeiro, autonomia
B8: Chesapeake Light Craft (John C. Harris) Passagemaker Dinghy (2016) | C8: Chesapeake Light Craft - Passagemaker Specifications | D8: estaleiro | E8: sem data identificavel | F8: 2026-09-15 | G8: https://clcboats.com/products/passagemaker-take-apart
B9: Chesapeake Light Craft (John C. Harris) Passagemaker Dinghy (2016) | C9: Small Boats Monthly - Passagemaker Dinghy (Ken Textor) | D9: revista nautica | E9: 2016-02-01 | F9: 2026-09-15 | G9: https://smallboatsmonthly.com/article/passagemaker-dinghy/
B10: Chesapeake Light Craft (John C. Harris) Passagemaker Dinghy (2016) - lacunas: lwl, pontal, potencia, vel_max, vel_cruzeiro, autonomia
B11: Chesapeake Light Craft (John C. Harris) Skerry (2023) | C11: Small Craft Advisor - Boat Review: CLC Skerry | D11: revista nautica | E11: 2023-01-23 | F11: 2026-09-15 | G11: https://smallcraftadvisor.substack.com/p/boat-review-clc-skerry
B12: Chesapeake Light Craft (John C. Harris) Skerry (2023) - lacunas: lwl, pontal, potencia, vel_max, vel_cruzeiro, autonomia
B13: Iain Oughtred Designs Acorn Dinghy 10' 2'' (Puffin) (2025) | C13: Small Boats Monthly - 10' 2'' Acorn Dinghy Design | D13: revista nautica | E13: 2025-06-01 | F13: 2026-09-15 | G13: https://smallboatsmonthly.com/article/10-2-acorn-dinghy/
B14: Iain Oughtred Designs Acorn Dinghy 10' 2'' (Puffin) (2025) | C14: Oughtred Boats - Dinghies Catalogue | D14: estaleiro | E14: sem data identificavel | F14: 2026-09-15 | G14: https://www.oughtredboats.com/mainpages/dinghies.html
B15: Iain Oughtred Designs Acorn Dinghy 10' 2'' (Puffin) (2025) - lacunas: pontal, potencia, vel_max, vel_cruzeiro, autonomia

Sheet Fatores
B2: Fatores de conversao utilizados
B4: Grandeza | C4: De | D4: Para | E4: Fator | F4: Observacao
B5: Comprimento | C5: ft | D5: m | E5: 0.3048 | F5: Exato (definicao internacional do pe)
B6: Massa / peso | C6: lb | D6: kg | E6: 0.45359237 | F6: Exato (libra avoirdupois)
B7: Volume | C7: US gal | D7: L | E7: 3.7854118 | F7: Galao americano
B8: Potencia | C8: hp | D8: kW | E8: 0.74569987 | F8: Horsepower mecanico (550 ft.lbf/s)
B9: Velocidade | C9: mph | D9: kn | E9: 0.86897624 | F9: Milha terrestre/h para no (1 kn = 1,852 km/h)
B10: Area | C10: ft2 | D10: m2 | E10: 0.09290304 | F10: Exato (0,3048^2)
B11: Massa (tonelada longa) | C11: long ton | D11: kg | E11: 1016.0469 | F11: Exato (2240 lb). Usado para recompor o DLR
B12: Densidade de massa | C12: lb/hp | D12: kg/kW | E12: =E6/E8 | F12: Derivado: fator lb->kg dividido por fator hp->kW
B14: Nao convertidos (permanecem no original)
B15: Razao LOA/BOA | C15: Adimensional.
B16: DLR | C16: Coeficiente definido em unidades imperiais (desloc. em long tons / (0,01 x LWL_pes)^3). Recalcular em SI mudaria a definicao; a formula recompoe as unidades imperiais a partir dos valores em SI.
B17: Deadrise | C17: Angulo em graus - unidade comum aos dois sistemas.
B18: Autonomia (NM) | C18: Milha nautica mantida (1 NM = 1,852 km).
B19: Motorizacao | C19: Texto original preservado - designacoes comerciais dos motores (ex.: '800 HP') sao nomes de modelo.
